BEGIN:VCALENDAR
VERSION:2.0
PRODID:-//Magnolia - Events - ECPv6.2.0.1//NONSGML v1.0//EN
CALSCALE:GREGORIAN
X-WR-CALNAME:Magnolia - Events
X-ORIGINAL-URL:https://magnoliaes.seattleschools.org/events/ics/
X-WR-CALDESC:Magnolia - Events
REFRESH-INTERVAL;VALUE=DURATION:PT1D
X-Robots-Tag:noindex
X-PUBLISHED-TTL:PT1D
BEGIN:VTIMEZONE
TZID:America/Vancouver
BEGIN:DAYLIGHT
TZOFFSETFROM:-0800
TZOFFSETTO:-0700
TZNAME:PDT
DTSTART:20260308T100000
END:DAYLIGHT
BEGIN:STANDARD
TZOFFSETFROM:-0700
TZOFFSETTO:-0800
TZNAME:PST
DTSTART:20261101T090000
END:STANDARD
END:VTIMEZONE
BEGIN:VEVENT
DTSTART;VALUE=DATE:20260908
DTEND;VALUE=DATE:20260909
DTSTAMP:20260425T065808Z
CREATED:20260424T111222Z
LAST-MODIFIED:20260424T114702Z
UID:https://magnoliaes.seattleschools.org/events/first-day-of-school-prek-
 and-kindergarten-3/
SUMMARY:First Day PreK &amp; K
DESCRIPTION:First Day of School PreK and Kindergarten (2026-27)
URL:https://magnoliaes.seattleschools.org/events/first-day-of-school-prek-
 and-kindergarten-3/
END:VEVENT
BEGIN:VEVENT
DTSTART;VALUE=DATE:20260317
DTEND;VALUE=DATE:20260318
DTSTAMP:20260425T065808Z
CREATED:20260105T153006Z
LAST-MODIFIED:20260105T155147Z
UID:https://magnoliaes.seattleschools.org/events/end-of-trimester-2/
SUMMARY:End of Trimester 2
DESCRIPTION:End of Trimester 2
URL:https://magnoliaes.seattleschools.org/events/end-of-trimester-2/
END:VEVENT
BEGIN:VEVENT
DTSTART;VALUE=DATE:20251201
DTEND;VALUE=DATE:20251202
DTSTAMP:20260425T065808Z
CREATED:20260105T152955Z
LAST-MODIFIED:20260105T152955Z
UID:https://magnoliaes.seattleschools.org/events/end-of-trimester-1/
SUMMARY:End of Trimester 1
DESCRIPTION:End of Trimester 1
URL:https://magnoliaes.seattleschools.org/events/end-of-trimester-1/
END:VEVENT
BEGIN:VEVENT
DTSTART;VALUE=DATE:20260127
DTEND;VALUE=DATE:20260128
DTSTAMP:20260425T065808Z
CREATED:20260105T152634Z
LAST-MODIFIED:20260105T152634Z
UID:https://magnoliaes.seattleschools.org/events/end-of-semester-1/
SUMMARY:End of Semester 1
DESCRIPTION:End of Semester 1
URL:https://magnoliaes.seattleschools.org/events/end-of-semester-1/
END:VEVENT
BEGIN:VEVENT
DTSTART;VALUE=DATE:20260127
DTEND;VALUE=DATE:20260128
DTSTAMP:20260425T065808Z
CREATED:20260105T152155Z
LAST-MODIFIED:20260105T152155Z
UID:https://magnoliaes.seattleschools.org/events/end-of-quarter-2/
SUMMARY:End of Quarter 2
DESCRIPTION:End of Quarter 2
URL:https://magnoliaes.seattleschools.org/events/end-of-quarter-2/
END:VEVENT
BEGIN:VEVENT
DTSTART;VALUE=DATE:20260407
DTEND;VALUE=DATE:20260408
DTSTAMP:20260425T065808Z
CREATED:20260105T152153Z
LAST-MODIFIED:20260105T152153Z
UID:https://magnoliaes.seattleschools.org/events/end-of-quarter-3/
SUMMARY:End of Quarter 3
DESCRIPTION:End of Quarter 3
URL:https://magnoliaes.seattleschools.org/events/end-of-quarter-3/
END:VEVENT
BEGIN:VEVENT
DTSTART;VALUE=DATE:20260106
DTEND;VALUE=DATE:20260107
DTSTAMP:20260425T065808Z
CREATED:20251215T132056Z
LAST-MODIFIED:20251216T111802Z
UID:https://magnoliaes.seattleschools.org/events/school-tour-6pm/
SUMMARY:Magnolia School Tour, 6pm
DESCRIPTION:School Tour\, 6pm
URL:https://magnoliaes.seattleschools.org/events/school-tour-6pm/
END:VEVENT
BEGIN:VEVENT
DTSTART;VALUE=DATE:20260106
DTEND;VALUE=DATE:20260107
DTSTAMP:20260425T065808Z
CREATED:20251215T131913Z
LAST-MODIFIED:20251215T131948Z
UID:https://magnoliaes.seattleschools.org/events/school-tour/
SUMMARY:Magnolia School Tour, 9am
DESCRIPTION:School Tour\, 9am
URL:https://magnoliaes.seattleschools.org/events/school-tour/
END:VEVENT
BEGIN:VEVENT
DTSTART;TZID=America/Vancouver:20251212T183000
DTEND;TZID=America/Vancouver:20251212T201500
DTSTAMP:20260425T065808Z
CREATED:20251120T084829Z
LAST-MODIFIED:20251120T084937Z
UID:https://magnoliaes.seattleschools.org/events/pta-lights-celebration-da
 nce/
SUMMARY:Lights Celebration-Dance
DESCRIPTION:PTA Hosted Lights Celebration &amp;amp\; Dance
URL:https://magnoliaes.seattleschools.org/events/pta-lights-celebration-da
 nce/
END:VEVENT
BEGIN:VEVENT
DTSTART;TZID=America/Vancouver:20260131T090000
DTEND;TZID=America/Vancouver:20260131T150000
DTSTAMP:20260425T065808Z
CREATED:20251104T104007Z
LAST-MODIFIED:20251107T102051Z
UID:https://magnoliaes.seattleschools.org/events/sps-enrollment-registrati
 on-fair/
SUMMARY:SPS Registration Fair
DESCRIPTION:SPS Enrollment Registration Fair
URL:https://magnoliaes.seattleschools.org/events/sps-enrollment-registrati
 on-fair/
END:VEVENT
BEGIN:VEVENT
DTSTART;TZID=America/Vancouver:20251204T173000
DTEND;TZID=America/Vancouver:20251204T190000
DTSTAMP:20260425T065808Z
CREATED:20251104T103554Z
LAST-MODIFIED:20251107T111609Z
UID:https://magnoliaes.seattleschools.org/events/enrollment-community-info
 rmation-session-in-person-4/
SUMMARY:Enrollment Info Session
DESCRIPTION:SPS Enrollment Information Session (In-Person)
Location: John Rogers Elementary\, 4030 NE 109th St\, Seattle\, WA 98125
URL:https://magnoliaes.seattleschools.org/events/enrollment-community-info
 rmation-session-in-person-4/
END:VEVENT
BEGIN:VEVENT
DTSTART;TZID=America/Vancouver:20251118T173000
DTEND;TZID=America/Vancouver:20251118T190000
DTSTAMP:20260425T065808Z
CREATED:20251104T103551Z
LAST-MODIFIED:20251107T111555Z
UID:https://magnoliaes.seattleschools.org/events/enrollment-community-info
 rmation-session-in-person-3/
SUMMARY:Enrollment Info Session
DESCRIPTION:SPS Enrollment Information Session (In-Person)
Location: South Shore PreK-8\, 4800 S Henderson St.\, Seattle\, WA 98118
URL:https://magnoliaes.seattleschools.org/events/enrollment-community-info
 rmation-session-in-person-3/
END:VEVENT
BEGIN:VEVENT
DTSTART;TZID=America/Vancouver:20251113T173000
DTEND;TZID=America/Vancouver:20251113T190000
DTSTAMP:20260425T065808Z
CREATED:20251104T103542Z
LAST-MODIFIED:20251107T111548Z
UID:https://magnoliaes.seattleschools.org/events/enrollment-community-info
 rmation-session-in-person-2/
SUMMARY:Enrollment Info Session
DESCRIPTION:SPS Enrollment Information Session (In-Person)
Location: Roxhill&nbsp;Elementary\, 7740 34th Ave. SW\, Seattle\, WA 98126
URL:https://magnoliaes.seattleschools.org/events/enrollment-community-info
 rmation-session-in-person-2/
END:VEVENT
BEGIN:VEVENT
DTSTART;TZID=America/Vancouver:20251202T173000
DTEND;TZID=America/Vancouver:20251202T190000
DTSTAMP:20260425T065808Z
CREATED:20251104T103539Z
LAST-MODIFIED:20251107T111602Z
UID:https://magnoliaes.seattleschools.org/events/enrollment-community-info
 rmation-session-in-person/
SUMMARY:Enrollment Info Session
DESCRIPTION:SPS Enrollment Information Session (In-Person)
Location: Leschi Elementary\, 135 32nd Ave.\, Seattle\, WA 98122
URL:https://magnoliaes.seattleschools.org/events/enrollment-community-info
 rmation-session-in-person/
END:VEVENT
BEGIN:VEVENT
DTSTART;TZID=America/Vancouver:20251120T173000
DTEND;TZID=America/Vancouver:20251120T190000
DTSTAMP:20260425T065808Z
CREATED:20251104T103536Z
LAST-MODIFIED:20251107T111557Z
UID:https://magnoliaes.seattleschools.org/events/enrollment-community-info
 rmation-session-in-person-5/
SUMMARY:Enrollment Info Session
DESCRIPTION:SPS Enrollment Information Session (In-Person)
Location: Licton Springs K-8\, 3015 NW 68th St.\, Seattle\, WA 98117
URL:https://magnoliaes.seattleschools.org/events/enrollment-community-info
 rmation-session-in-person-5/
END:VEVENT
BEGIN:VEVENT
DTSTART;TZID=America/Vancouver:20251112T180000
DTEND;TZID=America/Vancouver:20251112T190000
DTSTAMP:20260425T065808Z
CREATED:20251104T103451Z
LAST-MODIFIED:20251112T093516Z
UID:https://magnoliaes.seattleschools.org/events/enrollment-community-info
 rmation-session-virtual-2/
SUMMARY:Enrollment Info Session
DESCRIPTION:SPS Enrollment Information Session (Virtual)
URL:https://magnoliaes.seattleschools.org/events/enrollment-community-info
 rmation-session-virtual-2/
END:VEVENT
BEGIN:VEVENT
DTSTART;TZID=America/Vancouver:20251209T180000
DTEND;TZID=America/Vancouver:20251209T190000
DTSTAMP:20260425T065808Z
CREATED:20251104T103448Z
LAST-MODIFIED:20251107T103853Z
UID:https://magnoliaes.seattleschools.org/events/enrollment-community-info
 rmation-session-virtual/
SUMMARY:Enrollment Info Session
DESCRIPTION:SPS Enrollment Information Session (Virtual)
URL:https://magnoliaes.seattleschools.org/events/enrollment-community-info
 rmation-session-virtual/
END:VEVENT
BEGIN:VEVENT
DTSTART;TZID=America/Vancouver:20260115T190000
DTEND;TZID=America/Vancouver:20260115T200000
DTSTAMP:20260425T065808Z
CREATED:20251104T103444Z
LAST-MODIFIED:20251107T103858Z
UID:https://magnoliaes.seattleschools.org/events/enrollment-community-info
 rmation-session-virtual-3/
SUMMARY:Enrollment Info Session
DESCRIPTION:SPS Enrollment Information Session (Virtual)
URL:https://magnoliaes.seattleschools.org/events/enrollment-community-info
 rmation-session-virtual-3/
END:VEVENT
BEGIN:VEVENT
DTSTART;TZID=America/Vancouver:20260110T100000
DTEND;TZID=America/Vancouver:20260110T140000
DTSTAMP:20260425T065808Z
CREATED:20251103T134252Z
LAST-MODIFIED:20251107T102046Z
UID:https://magnoliaes.seattleschools.org/events/sps-enrollment-fair/
SUMMARY:SPS Enrollment Fair
DESCRIPTION:SPS Enrollment Fair
Enroll new students\, learn more about option schools\, and talk with staf
 f about Seattle Public Schools (SPS) programs and services.
URL:https://magnoliaes.seattleschools.org/events/sps-enrollment-fair/
END:VEVENT
BEGIN:VEVENT
DTSTART;TZID=America/Vancouver:20251017T183000
DTEND;TZID=America/Vancouver:20251017T000000
DTSTAMP:20260425T065808Z
CREATED:20250911T145340Z
LAST-MODIFIED:20250911T145515Z
UID:https://magnoliaes.seattleschools.org/events/mes-pta-fall-festival/
SUMMARY:PTA hosted Fall Festival
DESCRIPTION:MES PTA Fall Festival
URL:https://magnoliaes.seattleschools.org/events/mes-pta-fall-festival/
END:VEVENT
BEGIN:VEVENT
DTSTART;TZID=America/Vancouver:20250828T160000
DTEND;TZID=America/Vancouver:20250828T170000
DTSTAMP:20260425T065808Z
CREATED:20250616T140655Z
LAST-MODIFIED:20250616T140659Z
UID:https://magnoliaes.seattleschools.org/events/teacher-meet-greet/
SUMMARY:Teacher Meet &amp; Greet
DESCRIPTION:Teacher Meet &amp;amp\; Greet
An opportunity to meet your student&#039;s teacher for 2025-2026. 
URL:https://magnoliaes.seattleschools.org/events/teacher-meet-greet/
END:VEVENT
BEGIN:VEVENT
DTSTART;TZID=America/Vancouver:20250826T140000
DTEND;TZID=America/Vancouver:20250826T150000
DTSTAMP:20260425T065808Z
CREATED:20250616T140301Z
LAST-MODIFIED:20250616T140305Z
UID:https://magnoliaes.seattleschools.org/events/kindergarten-sneak-peek/
SUMMARY:Kinder Sneak Peek
DESCRIPTION:Kindergarten Sneak Peek
URL:https://magnoliaes.seattleschools.org/events/kindergarten-sneak-peek/
END:VEVENT
BEGIN:VEVENT
DTSTART;VALUE=DATE:20250526
DTEND;VALUE=DATE:20250527
DTSTAMP:20260425T065808Z
CREATED:20250404T153946Z
LAST-MODIFIED:20250404T160338Z
UID:https://magnoliaes.seattleschools.org/events/memorial-day-no-school-24
 -25-school-year/
SUMMARY:No School Memorial Day
DESCRIPTION:Memorial Day\, No School (24-25 School Year)
URL:https://magnoliaes.seattleschools.org/events/memorial-day-no-school-24
 -25-school-year/
END:VEVENT
BEGIN:VEVENT
DTSTART;VALUE=DATE:20260619
DTEND;VALUE=DATE:20260620
DTSTAMP:20260425T065808Z
CREATED:20250328T111415Z
LAST-MODIFIED:20260105T155314Z
UID:https://magnoliaes.seattleschools.org/events/juneteenth-2/
SUMMARY:Juneteenth
DESCRIPTION:Juneteenth
URL:https://magnoliaes.seattleschools.org/events/juneteenth-2/
END:VEVENT
BEGIN:VEVENT
DTSTART;VALUE=DATE:20260617
DTEND;VALUE=DATE:20260618
DTSTAMP:20260425T065808Z
CREATED:20250328T111009Z
LAST-MODIFIED:20260105T155316Z
UID:https://magnoliaes.seattleschools.org/events/last-day-of-school-2/
SUMMARY:Last Day of School
DESCRIPTION:Last Day of School\, 1-hour Early Dismissal
URL:https://magnoliaes.seattleschools.org/events/last-day-of-school-2/
END:VEVENT
BEGIN:VEVENT
DTSTART;VALUE=DATE:20260525
DTEND;VALUE=DATE:20260526
DTSTAMP:20260425T065808Z
CREATED:20250328T110458Z
LAST-MODIFIED:20260105T155309Z
UID:https://magnoliaes.seattleschools.org/events/memorial-day-no-school-2/
SUMMARY:No School Memorial Day
DESCRIPTION:Memorial Day\, No School
URL:https://magnoliaes.seattleschools.org/events/memorial-day-no-school-2/
END:VEVENT
BEGIN:VEVENT
DTSTART;VALUE=DATE:20260413
DTEND;VALUE=DATE:20260418
DTSTAMP:20260425T065808Z
CREATED:20250328T110203Z
LAST-MODIFIED:20260105T155233Z
UID:https://magnoliaes.seattleschools.org/events/spring-break-no-school/
SUMMARY:No School Spring Break
DESCRIPTION:Spring Break\, No School
URL:https://magnoliaes.seattleschools.org/events/spring-break-no-school/
END:VEVENT
BEGIN:VEVENT
DTSTART;VALUE=DATE:20260216
DTEND;VALUE=DATE:20260221
DTSTAMP:20260425T065808Z
CREATED:20250328T105730Z
LAST-MODIFIED:20260105T155152Z
UID:https://magnoliaes.seattleschools.org/events/mid-winter-break-no-schoo
 l/
SUMMARY:No School Mid-Winter
DESCRIPTION:Mid-winter Break\, No School
URL:https://magnoliaes.seattleschools.org/events/mid-winter-break-no-schoo
 l/
END:VEVENT
BEGIN:VEVENT
DTSTART;VALUE=DATE:20260119
DTEND;VALUE=DATE:20260120
DTSTAMP:20260425T065808Z
CREATED:20250328T105118Z
LAST-MODIFIED:20260105T155111Z
UID:https://magnoliaes.seattleschools.org/events/mlk-jr-day-no-school/
SUMMARY:No School MLK Jr. Day
DESCRIPTION:Martin Luther King Jr Day\, No School
URL:https://magnoliaes.seattleschools.org/events/mlk-jr-day-no-school/
END:VEVENT
BEGIN:VEVENT
DTSTART;VALUE=DATE:20251222
DTEND;VALUE=DATE:20260103
DTSTAMP:20260425T065808Z
CREATED:20250328T104421Z
LAST-MODIFIED:20250404T144545Z
UID:https://magnoliaes.seattleschools.org/events/winter-break-no-school-2/
SUMMARY:No School Winter Break
DESCRIPTION:Winter Break\, No School (25-26 School Year)
URL:https://magnoliaes.seattleschools.org/events/winter-break-no-school-2/
END:VEVENT
BEGIN:VEVENT
DTSTART;VALUE=DATE:20251219
DTEND;VALUE=DATE:20251220
DTSTAMP:20260425T065808Z
CREATED:20250328T103738Z
LAST-MODIFIED:20250404T144447Z
UID:https://magnoliaes.seattleschools.org/events/early-dismissal-2/
SUMMARY:1-hour Early Dismissal
DESCRIPTION:Early Dismissal (25-26 School Year)
URL:https://magnoliaes.seattleschools.org/events/early-dismissal-2/
END:VEVENT
BEGIN:VEVENT
DTSTART;VALUE=DATE:20251127
DTEND;VALUE=DATE:20251129
DTSTAMP:20260425T065808Z
CREATED:20250328T102608Z
LAST-MODIFIED:20250404T144314Z
UID:https://magnoliaes.seattleschools.org/events/thanksgiving-no-school/
SUMMARY:No School Thanksgiving
DESCRIPTION:Thanksgiving\, No School (25-26 School Year)
URL:https://magnoliaes.seattleschools.org/events/thanksgiving-no-school/
END:VEVENT
BEGIN:VEVENT
DTSTART;VALUE=DATE:20251124
DTEND;VALUE=DATE:20251127
DTSTAMP:20260425T065808Z
CREATED:20250328T102124Z
LAST-MODIFIED:20250404T144100Z
UID:https://magnoliaes.seattleschools.org/events/family-teacher-conference
 s-at-elementary-and-k-8-schools-2/
SUMMARY:Elem, K-8 Conferences
DESCRIPTION:Family-Teacher Conferences at Elementary and K-8 Schools (25-2
 6 School Year)
URL:https://magnoliaes.seattleschools.org/events/family-teacher-conference
 s-at-elementary-and-k-8-schools-2/
END:VEVENT
BEGIN:VEVENT
DTSTART;VALUE=DATE:20251111
DTEND;VALUE=DATE:20251112
DTSTAMP:20260425T065808Z
CREATED:20250328T101706Z
LAST-MODIFIED:20250404T144036Z
UID:https://magnoliaes.seattleschools.org/events/veterans-day-no-school-2/
SUMMARY:No School Veterans Day
DESCRIPTION:Veterans Day\, No School (25-26 School Year)
URL:https://magnoliaes.seattleschools.org/events/veterans-day-no-school-2/
END:VEVENT
BEGIN:VEVENT
DTSTART;VALUE=DATE:20251010
DTEND;VALUE=DATE:20251011
DTSTAMP:20260425T065808Z
CREATED:20250328T101338Z
LAST-MODIFIED:20250404T143947Z
UID:https://magnoliaes.seattleschools.org/events/professional-development-
 day-no-school-2/
SUMMARY:No School PD Day
DESCRIPTION:Professional Development Day\, No School (25-26 School Year)
URL:https://magnoliaes.seattleschools.org/events/professional-development-
 day-no-school-2/
END:VEVENT
BEGIN:VEVENT
DTSTART;VALUE=DATE:20250908
DTEND;VALUE=DATE:20250909
DTSTAMP:20260425T065808Z
CREATED:20250328T095928Z
LAST-MODIFIED:20250404T143651Z
UID:https://magnoliaes.seattleschools.org/events/first-day-of-school-prek-
 and-kindergarten-2/
SUMMARY:First Day Kindergarten
DESCRIPTION:First Day of School PreK and Kindergarten (25-26 School Year)
URL:https://magnoliaes.seattleschools.org/events/first-day-of-school-prek-
 and-kindergarten-2/
END:VEVENT
BEGIN:VEVENT
DTSTART;VALUE=DATE:20250903
DTEND;VALUE=DATE:20250904
DTSTAMP:20260425T065808Z
CREATED:20250325T150614Z
LAST-MODIFIED:20250404T140751Z
UID:https://magnoliaes.seattleschools.org/events/first-day-of-school-1-12-
 grade-2/
SUMMARY:First Day of School
DESCRIPTION:First Day of School 1-12 Grade (25-26 School Year)
URL:https://magnoliaes.seattleschools.org/events/first-day-of-school-1-12-
 grade-2/
END:VEVENT
BEGIN:VEVENT
DTSTART;TZID=America/Vancouver:20250201T100000
DTEND;TZID=America/Vancouver:20250201T140000
DTSTAMP:20260425T065808Z
CREATED:20250114T155755Z
LAST-MODIFIED:20250114T160145Z
UID:https://magnoliaes.seattleschools.org/events/admissions-fair/
SUMMARY:SPS Admissions Fair
DESCRIPTION:SPS Admissions Fair
Enroll new students\, learn more about option schools\, and talk with staf
 f about Seattle Public Schools (SPS) programs and services.
URL:https://magnoliaes.seattleschools.org/events/admissions-fair/
END:VEVENT
BEGIN:VEVENT
DTSTART;TZID=America/Vancouver:20250123T180000
DTEND;TZID=America/Vancouver:20250123T184500
DTSTAMP:20260425T065808Z
CREATED:20250106T094536Z
LAST-MODIFIED:20250106T094537Z
UID:https://magnoliaes.seattleschools.org/events/magnolia-school-pm-tour/
SUMMARY:Magnolia Tour
DESCRIPTION:Magnolia School PM Tour
A tour for incoming kindergarten and new families
URL:https://magnoliaes.seattleschools.org/events/magnolia-school-pm-tour/
END:VEVENT
BEGIN:VEVENT
DTSTART;TZID=America/Vancouver:20250123T090000
DTEND;TZID=America/Vancouver:20250123T094500
DTSTAMP:20260425T065808Z
CREATED:20250106T094156Z
LAST-MODIFIED:20250106T094552Z
UID:https://magnoliaes.seattleschools.org/events/magnolia-school-tour/
SUMMARY:Magnolia Tour
DESCRIPTION:Magnolia School AM Tour
A tour for incoming kindergarten and new families
URL:https://magnoliaes.seattleschools.org/events/magnolia-school-tour/
END:VEVENT
BEGIN:VEVENT
DTSTART;VALUE=DATE:20250501
DTEND;VALUE=DATE:20250502
DTSTAMP:20260425T065808Z
CREATED:20240910T093239Z
LAST-MODIFIED:20240910T093241Z
UID:https://magnoliaes.seattleschools.org/events/class-picture-day/
SUMMARY:Class Picture Day
DESCRIPTION:Class Picture Day
URL:https://magnoliaes.seattleschools.org/events/class-picture-day/
END:VEVENT
BEGIN:VEVENT
DTSTART;VALUE=DATE:20241114
DTEND;VALUE=DATE:20241115
DTSTAMP:20260425T065808Z
CREATED:20240910T092940Z
LAST-MODIFIED:20240910T092942Z
UID:https://magnoliaes.seattleschools.org/events/picture-retake-day/
SUMMARY:Picture Retake Day
DESCRIPTION:Picture Retake Day
URL:https://magnoliaes.seattleschools.org/events/picture-retake-day/
END:VEVENT
BEGIN:VEVENT
DTSTART;VALUE=DATE:20241008
DTEND;VALUE=DATE:20241009
DTSTAMP:20260425T065808Z
CREATED:20240910T092611Z
LAST-MODIFIED:20240910T092613Z
UID:https://magnoliaes.seattleschools.org/events/picture-day/
SUMMARY:Picture Day
DESCRIPTION:Picture Day
URL:https://magnoliaes.seattleschools.org/events/picture-day/
END:VEVENT
BEGIN:VEVENT
DTSTART;TZID=America/Vancouver:20241017T173000
DTEND;TZID=America/Vancouver:20241010T183000
DTSTAMP:20260425T065808Z
CREATED:20240815T080915Z
LAST-MODIFIED:20240924T130856Z
UID:https://magnoliaes.seattleschools.org/events/student-led-welcome-night
 /
SUMMARY:Welcome Night
DESCRIPTION:Student Led Welcome Night
Students will lead their adults around the building to various sites. Teac
 hers will provide a handout with a brief summary of their curriculum
URL:https://magnoliaes.seattleschools.org/events/student-led-welcome-night
 /
END:VEVENT
BEGIN:VEVENT
DTSTART;TZID=America/Vancouver:20240903T160000
DTEND;TZID=America/Vancouver:20240903T160000
DTSTAMP:20260425T065808Z
CREATED:20240815T075049Z
LAST-MODIFIED:20240826T103824Z
UID:https://magnoliaes.seattleschools.org/events/new-student-and-family-to
 urs/
SUMMARY:New Student Tours
DESCRIPTION:New Student and Family tours
URL:https://magnoliaes.seattleschools.org/events/new-student-and-family-to
 urs/
END:VEVENT
BEGIN:VEVENT
DTSTART;TZID=America/Vancouver:20240829T160000
DTEND;TZID=America/Vancouver:20240829T160000
DTSTAMP:20260425T065808Z
CREATED:20240815T074955Z
LAST-MODIFIED:20240826T080239Z
UID:https://magnoliaes.seattleschools.org/events/teacher-meet-greet-ella-b
 ailey/
SUMMARY:Teacher Meet &amp; Greet
DESCRIPTION:Teacher Meet &amp;amp\; Greet @ Ella Bailey
URL:https://magnoliaes.seattleschools.org/events/teacher-meet-greet-ella-b
 ailey/
END:VEVENT
BEGIN:VEVENT
DTSTART;TZID=America/Vancouver:20240828T140000
DTEND;TZID=America/Vancouver:20240828T140000
DTSTAMP:20260425T065808Z
CREATED:20240815T074825Z
LAST-MODIFIED:20240826T074930Z
UID:https://magnoliaes.seattleschools.org/events/kindergarten-open-house/
SUMMARY:Kinder Open House
DESCRIPTION:Kindergarten Open House
URL:https://magnoliaes.seattleschools.org/events/kindergarten-open-house/
END:VEVENT
BEGIN:VEVENT
DTSTART;VALUE=DATE:20250319
DTEND;VALUE=DATE:20250320
DTSTAMP:20260425T065808Z
CREATED:20240813T150916Z
LAST-MODIFIED:20240813T150916Z
UID:https://magnoliaes.seattleschools.org/events/trimester-2/
SUMMARY:End of Trimester 2
DESCRIPTION:Trimester 2
URL:https://magnoliaes.seattleschools.org/events/trimester-2/
END:VEVENT
BEGIN:VEVENT
DTSTART;VALUE=DATE:20241203
DTEND;VALUE=DATE:20241204
DTSTAMP:20260425T065808Z
CREATED:20240813T150349Z
LAST-MODIFIED:20240813T150349Z
UID:https://magnoliaes.seattleschools.org/events/trimester-1/
SUMMARY:End of Trimester 1
DESCRIPTION:Trimester 1
URL:https://magnoliaes.seattleschools.org/events/trimester-1/
END:VEVENT
BEGIN:VEVENT
DTSTART;VALUE=DATE:20250408
DTEND;VALUE=DATE:20250409
DTSTAMP:20260425T065808Z
CREATED:20240813T150011Z
LAST-MODIFIED:20240813T150011Z
UID:https://magnoliaes.seattleschools.org/events/quarter-3/
SUMMARY:End of Quarter 3
DESCRIPTION:Quarter 3
URL:https://magnoliaes.seattleschools.org/events/quarter-3/
END:VEVENT
BEGIN:VEVENT
DTSTART;VALUE=DATE:20250128
DTEND;VALUE=DATE:20250129
DTSTAMP:20260425T065808Z
CREATED:20240813T145447Z
LAST-MODIFIED:20240813T145447Z
UID:https://magnoliaes.seattleschools.org/events/quarter-2/
SUMMARY:End of Quarter 2
DESCRIPTION:Quarter 2
URL:https://magnoliaes.seattleschools.org/events/quarter-2/
END:VEVENT
BEGIN:VEVENT
DTSTART;VALUE=DATE:20241106
DTEND;VALUE=DATE:20241107
DTSTAMP:20260425T065808Z
CREATED:20240813T145249Z
LAST-MODIFIED:20240813T145249Z
UID:https://magnoliaes.seattleschools.org/events/quarter-1/
SUMMARY:End of Quarter 1
DESCRIPTION:Quarter 1
URL:https://magnoliaes.seattleschools.org/events/quarter-1/
END:VEVENT
BEGIN:VEVENT
DTSTART;VALUE=DATE:20250128
DTEND;VALUE=DATE:20250129
DTSTAMP:20260425T065808Z
CREATED:20240813T144846Z
LAST-MODIFIED:20240813T144846Z
UID:https://magnoliaes.seattleschools.org/events/semester-1/
SUMMARY:End of Semester 1
DESCRIPTION:Semester 1
URL:https://magnoliaes.seattleschools.org/events/semester-1/
END:VEVENT
BEGIN:VEVENT
DTSTART;VALUE=DATE:20250619
DTEND;VALUE=DATE:20250620
DTSTAMP:20260425T065808Z
CREATED:20240712T113148Z
LAST-MODIFIED:20250407T092608Z
UID:https://magnoliaes.seattleschools.org/events/juneteenth/
SUMMARY:Juneteenth
DESCRIPTION:Juneteenth (24-25 School Year)
URL:https://magnoliaes.seattleschools.org/events/juneteenth/
END:VEVENT
BEGIN:VEVENT
DTSTART;VALUE=DATE:20250618
DTEND;VALUE=DATE:20250619
DTSTAMP:20260425T065808Z
CREATED:20240712T112602Z
LAST-MODIFIED:20250505T130904Z
UID:https://magnoliaes.seattleschools.org/events/last-day-of-school/
SUMMARY:Last Day of School
DESCRIPTION:Last Day of School\, 1-hour Early Dismissal (24-25 School Year
 )
URL:https://magnoliaes.seattleschools.org/events/last-day-of-school/
END:VEVENT
BEGIN:VEVENT
DTSTART;VALUE=DATE:20250414
DTEND;VALUE=DATE:20250419
DTSTAMP:20260425T065808Z
CREATED:20240712T111904Z
LAST-MODIFIED:20250407T091842Z
UID:https://magnoliaes.seattleschools.org/events/spring-break/
SUMMARY:No School Spring Break
DESCRIPTION:Spring Break\, No School (24-25 School Year)
URL:https://magnoliaes.seattleschools.org/events/spring-break/
END:VEVENT
BEGIN:VEVENT
DTSTART;VALUE=DATE:20250217
DTEND;VALUE=DATE:20250222
DTSTAMP:20260425T065808Z
CREATED:20240712T111451Z
LAST-MODIFIED:20240712T111741Z
UID:https://magnoliaes.seattleschools.org/events/mid-winter-break/
SUMMARY:No School Mid-Winter
DESCRIPTION:Mid-winter Break\, No School
URL:https://magnoliaes.seattleschools.org/events/mid-winter-break/
END:VEVENT
BEGIN:VEVENT
DTSTART;VALUE=DATE:20250120
DTEND;VALUE=DATE:20250121
DTSTAMP:20260425T065808Z
CREATED:20240712T111022Z
LAST-MODIFIED:20240828T103412Z
UID:https://magnoliaes.seattleschools.org/events/mlk-jr-day/
SUMMARY:No School MLK Jr. Day
DESCRIPTION:MLK Jr Day\, No School
URL:https://magnoliaes.seattleschools.org/events/mlk-jr-day/
END:VEVENT
BEGIN:VEVENT
DTSTART;VALUE=DATE:20241220
DTEND;VALUE=DATE:20241221
DTSTAMP:20260425T065808Z
CREATED:20240712T110505Z
LAST-MODIFIED:20240712T110505Z
UID:https://magnoliaes.seattleschools.org/events/early-dismissal/
SUMMARY:1-hour Early Dismissal 
DESCRIPTION:Early Dismissal
URL:https://magnoliaes.seattleschools.org/events/early-dismissal/
END:VEVENT
BEGIN:VEVENT
DTSTART;VALUE=DATE:20241223
DTEND;VALUE=DATE:20250104
DTSTAMP:20260425T065808Z
CREATED:20240712T110116Z
LAST-MODIFIED:20240712T110116Z
UID:https://magnoliaes.seattleschools.org/events/winter-break-no-school/
SUMMARY:No School Winter Break
DESCRIPTION:Winter Break\, No School
URL:https://magnoliaes.seattleschools.org/events/winter-break-no-school/
END:VEVENT
BEGIN:VEVENT
DTSTART;VALUE=DATE:20241129
DTEND;VALUE=DATE:20241130
DTSTAMP:20260425T065808Z
CREATED:20240712T105701Z
LAST-MODIFIED:20240828T103400Z
UID:https://magnoliaes.seattleschools.org/events/native-american-heritage-
 day/
SUMMARY:Native American Heritage 
DESCRIPTION:Native American Heritage Day\, No School
URL:https://magnoliaes.seattleschools.org/events/native-american-heritage-
 day/
END:VEVENT
BEGIN:VEVENT
DTSTART;VALUE=DATE:20241128
DTEND;VALUE=DATE:20241129
DTSTAMP:20260425T065808Z
CREATED:20240712T105009Z
LAST-MODIFIED:20240712T105447Z
UID:https://magnoliaes.seattleschools.org/events/thanksgiving/
SUMMARY:No School Thanksgiving
DESCRIPTION:Thanksgiving\, No School
URL:https://magnoliaes.seattleschools.org/events/thanksgiving/
END:VEVENT
BEGIN:VEVENT
DTSTART;VALUE=DATE:20241125
DTEND;VALUE=DATE:20241128
DTSTAMP:20260425T065808Z
CREATED:20240712T103453Z
LAST-MODIFIED:20240712T103453Z
UID:https://magnoliaes.seattleschools.org/events/family-teacher-conference
 s-at-elementary-and-k-8-schools/
SUMMARY:Elem, K-8 Conferences
DESCRIPTION:Family-Teacher Conferences at Elementary and K-8 Schools
URL:https://magnoliaes.seattleschools.org/events/family-teacher-conference
 s-at-elementary-and-k-8-schools/
END:VEVENT
BEGIN:VEVENT
DTSTART;VALUE=DATE:20241111
DTEND;VALUE=DATE:20241112
DTSTAMP:20260425T065808Z
CREATED:20240712T101023Z
LAST-MODIFIED:20240712T101023Z
UID:https://magnoliaes.seattleschools.org/events/veterans-day-no-school/
SUMMARY:No School Veterans Day
DESCRIPTION:Veterans Day\, No School
URL:https://magnoliaes.seattleschools.org/events/veterans-day-no-school/
END:VEVENT
BEGIN:VEVENT
DTSTART;VALUE=DATE:20241011
DTEND;VALUE=DATE:20241012
DTSTAMP:20260425T065808Z
CREATED:20240712T100616Z
LAST-MODIFIED:20240712T100616Z
UID:https://magnoliaes.seattleschools.org/events/professional-development-
 day-no-school/
SUMMARY:No School PD Day
DESCRIPTION:Professional Development Day\, No School
URL:https://magnoliaes.seattleschools.org/events/professional-development-
 day-no-school/
END:VEVENT
BEGIN:VEVENT
DTSTART;VALUE=DATE:20240909
DTEND;VALUE=DATE:20240910
DTSTAMP:20260425T065808Z
CREATED:20240712T095941Z
LAST-MODIFIED:20240712T095941Z
UID:https://magnoliaes.seattleschools.org/events/first-day-of-school-prek-
 and-kindergarten/
SUMMARY:First Day Kindergarten
DESCRIPTION:First Day of School PreK and Kindergarten
URL:https://magnoliaes.seattleschools.org/events/first-day-of-school-prek-
 and-kindergarten/
END:VEVENT
BEGIN:VEVENT
DTSTART;VALUE=DATE:20240904
DTEND;VALUE=DATE:20240905
DTSTAMP:20260425T065808Z
CREATED:20240712T081334Z
LAST-MODIFIED:20240712T081334Z
UID:https://magnoliaes.seattleschools.org/events/first-day-of-school-1-12-
 grade/
SUMMARY:First Day of School
DESCRIPTION:First Day of School 1-12 Grade
URL:https://magnoliaes.seattleschools.org/events/first-day-of-school-1-12-
 grade/
END:VEVENT
END:VCALENDAR